Package: cycle Version: 1.62.0 Command: /Library/Frameworks/R.framework/Resources/bin/R CMD INSTALL cycle StartedAt: 2025-10-13 15:55:44 -0400 (Mon, 13 Oct 2025) EndedAt: 2025-10-13 15:55:48 -0400 (Mon, 13 Oct 2025) EllapsedTime: 5.0 seconds RetCode: 0 Status: OK