Package: customProDB Version: 1.48.0 Command: /Library/Frameworks/R.framework/Resources/bin/R CMD build --keep-empty-dirs --no-resave-data customProDB StartedAt: 2025-10-13 18:17:37 -0400 (Mon, 13 Oct 2025) EndedAt: 2025-10-13 18:20:14 -0400 (Mon, 13 Oct 2025) EllapsedTime: 156.9 seconds RetCode: 0 Status: OK PackageFile: customProDB_1.48.0.tar.gz PackageFileSize: 539.9 KiB