Package: ctsGE Version: 1.34.0 Command: rm -rf ctsGE.buildbin-libdir && mkdir ctsGE.buildbin-libdir && E:\biocbuild\bbs-3.21-bioc\R\bin\R.exe CMD INSTALL --build --library=ctsGE.buildbin-libdir ctsGE_1.34.0.tar.gz StartedAt: 2025-08-15 09:05:15 -0400 (Fri, 15 Aug 2025) EndedAt: 2025-08-15 09:05:27 -0400 (Fri, 15 Aug 2025) EllapsedTime: 12.2 seconds RetCode: 0 Status: OK PackageFile: ctsGE_1.34.0.zip PackageFileSize: 762.8 KiB