Package: ctsGE Version: 1.34.0 Command: /Library/Frameworks/R.framework/Resources/bin/R CMD build --keep-empty-dirs --no-resave-data ctsGE StartedAt: 2025-10-13 18:15:57 -0400 (Mon, 13 Oct 2025) EndedAt: 2025-10-13 18:17:04 -0400 (Mon, 13 Oct 2025) EllapsedTime: 67.2 seconds RetCode: 0 Status: OK PackageFile: ctsGE_1.34.0.tar.gz PackageFileSize: 1.133 MiB