Package: ctsGE Version: 1.34.0 Command: rm -rf ctsGE.buildbin-libdir && mkdir ctsGE.buildbin-libdir && /Users/biocbuild/BBS/utils/build-universal.sh ctsGE_1.34.0.tar.gz /Library/Frameworks/R.framework/Resources/bin/R ctsGE.buildbin-libdir StartedAt: 2025-10-14 13:10:06 -0400 (Tue, 14 Oct 2025) EndedAt: 2025-10-14 13:10:24 -0400 (Tue, 14 Oct 2025) EllapsedTime: 18.0 seconds RetCode: 0 Status: OK PackageFile: ctsGE_1.34.0.tgz PackageFileSize: 1.17 MiB