Package: ctc Version: 1.84.0 Command: /home/biocbuild/R/R/bin/R CMD INSTALL ctc StartedAt: 2025-11-13 21:04:22 -0000 (Thu, 13 Nov 2025) EndedAt: 2025-11-13 21:05:01 -0000 (Thu, 13 Nov 2025) EllapsedTime: 39.2 seconds RetCode: 0 Status: OK