Package: ctc Version: 1.84.0 Command: /home/biocbuild/R/R/bin/R CMD check --install=check:ctc.install-out.txt --library=/home/biocbuild/R/R/site-library --no-vignettes --timings ctc_1.84.0.tar.gz StartedAt: 2025-11-14 08:24:59 -0000 (Fri, 14 Nov 2025) EndedAt: 2025-11-14 08:25:17 -0000 (Fri, 14 Nov 2025) EllapsedTime: 18.0 seconds RetCode: 0 Status: OK CheckDir: ctc.Rcheck Warnings: 0