Package: ctc Version: 1.83.0 Command: F:\biocbuild\bbs-3.22-bioc\R\bin\R.exe CMD INSTALL ctc StartedAt: 2025-08-14 15:19:32 -0400 (Thu, 14 Aug 2025) EndedAt: 2025-08-14 15:19:58 -0400 (Thu, 14 Aug 2025) EllapsedTime: 25.9 seconds RetCode: 0 Status: OK