Package: ctc Version: 1.83.0 Command: rm -rf ctc.buildbin-libdir && mkdir ctc.buildbin-libdir && F:\biocbuild\bbs-3.22-bioc\R\bin\R.exe CMD INSTALL --build --library=ctc.buildbin-libdir ctc_1.83.0.tar.gz StartedAt: 2025-08-15 10:03:36 -0400 (Fri, 15 Aug 2025) EndedAt: 2025-08-15 10:03:46 -0400 (Fri, 15 Aug 2025) EllapsedTime: 9.3 seconds RetCode: 0 Status: OK PackageFile: ctc_1.83.0.zip PackageFileSize: 140.5 KiB