Package: ctc Version: 1.84.0 Command: /home/biocbuild/bbs-3.22-bioc/R/bin/R CMD INSTALL ctc StartedAt: 2025-11-09 15:03:03 -0500 (Sun, 09 Nov 2025) EndedAt: 2025-11-09 15:03:27 -0500 (Sun, 09 Nov 2025) EllapsedTime: 24.1 seconds RetCode: 0 Status: OK