Package: ctc Version: 1.84.0 Command: /home/biocbuild/bbs-3.22-bioc/R/bin/R CMD build --keep-empty-dirs --no-resave-data --md5 ctc StartedAt: 2025-11-09 17:11:16 -0500 (Sun, 09 Nov 2025) EndedAt: 2025-11-09 17:11:21 -0500 (Sun, 09 Nov 2025) EllapsedTime: 5.0 seconds RetCode: 0 Status: OK PackageFile: ctc_1.84.0.tar.gz PackageFileSize: 271.6 KiB