Package: ctc Version: 1.84.0 Command: /Library/Frameworks/R.framework/Resources/bin/R CMD check --install=check:ctc.install-out.txt --library=/Library/Frameworks/R.framework/Resources/library --no-vignettes --timings ctc_1.84.0.tar.gz StartedAt: 2025-11-09 19:17:11 -0500 (Sun, 09 Nov 2025) EndedAt: 2025-11-09 19:17:23 -0500 (Sun, 09 Nov 2025) EllapsedTime: 11.1 seconds RetCode: 0 Status: OK CheckDir: ctc.Rcheck Warnings: 0