Package: ctc Version: 1.84.0 Command: /Library/Frameworks/R.framework/Resources/bin/R CMD build --keep-empty-dirs --no-resave-data ctc StartedAt: 2025-11-06 16:04:44 -0500 (Thu, 06 Nov 2025) EndedAt: 2025-11-06 16:04:47 -0500 (Thu, 06 Nov 2025) EllapsedTime: 3.0 seconds RetCode: 0 Status: OK PackageFile: ctc_1.84.0.tar.gz PackageFileSize: 270.5 KiB