Package: crupR Version: 1.1.1 Command: /home/biocbuild/R/R/bin/R CMD INSTALL crupR StartedAt: 2025-10-23 21:24:41 -0000 (Thu, 23 Oct 2025) EndedAt: 2025-10-23 21:25:34 -0000 (Thu, 23 Oct 2025) EllapsedTime: 52.6 seconds RetCode: 0 Status: OK