Package: crupR Version: 1.1.1 Command: /home/biocbuild/R/R/bin/R CMD check --install=check:crupR.install-out.txt --library=/home/biocbuild/R/R/site-library --no-vignettes --timings crupR_1.1.1.tar.gz StartedAt: 2025-10-21 06:57:29 -0000 (Tue, 21 Oct 2025) EndedAt: 2025-10-21 07:07:16 -0000 (Tue, 21 Oct 2025) EllapsedTime: 586.4 seconds RetCode: 0 Status: OK CheckDir: crupR.Rcheck Warnings: 0