Package: crupR Version: 1.2.0 Command: /home/biocbuild/bbs-3.22-bioc/R/bin/R CMD INSTALL crupR StartedAt: 2025-11-06 16:01:16 -0500 (Thu, 06 Nov 2025) EndedAt: 2025-11-06 16:01:57 -0500 (Thu, 06 Nov 2025) EllapsedTime: 41.5 seconds RetCode: 0 Status: OK