Package: crupR Version: 1.2.0 Command: /Library/Frameworks/R.framework/Resources/bin/R CMD build --keep-empty-dirs --no-resave-data crupR StartedAt: 2025-11-03 16:37:51 -0500 (Mon, 03 Nov 2025) EndedAt: 2025-11-03 16:48:45 -0500 (Mon, 03 Nov 2025) EllapsedTime: 654.6 seconds RetCode: 0 Status: OK PackageFile: crupR_1.2.0.tar.gz PackageFileSize: 4.149 MiB