Package: crumblr Version: 1.2.0 Command: /home/biocbuild/R/R/bin/R CMD build --keep-empty-dirs --no-resave-data crumblr StartedAt: 2025-11-21 01:31:14 -0000 (Fri, 21 Nov 2025) EndedAt: 2025-11-21 02:11:15 -0000 (Fri, 21 Nov 2025) EllapsedTime: 2400.8 seconds RetCode: None Status: TIMEOUT PackageFile: None PackageFileSize: NA