Package: crossmeta Version: 1.34.0 Command: /Library/Frameworks/R.framework/Resources/bin/R CMD INSTALL crossmeta StartedAt: 2025-10-13 16:01:13 -0400 (Mon, 13 Oct 2025) EndedAt: 2025-10-13 16:01:37 -0400 (Mon, 13 Oct 2025) EllapsedTime: 24.0 seconds RetCode: 0 Status: OK