Package: crisprViz Version: 1.12.0 Command: /Library/Frameworks/R.framework/Resources/bin/R CMD build --keep-empty-dirs --no-resave-data crisprViz StartedAt: 2025-11-03 16:37:42 -0500 (Mon, 03 Nov 2025) EndedAt: 2025-11-03 16:40:19 -0500 (Mon, 03 Nov 2025) EllapsedTime: 157.7 seconds RetCode: 0 Status: OK PackageFile: crisprViz_1.12.0.tar.gz PackageFileSize: 1.302 MiB