Package: crisprViz Version: 1.12.0 Command: rm -rf crisprViz.buildbin-libdir && mkdir crisprViz.buildbin-libdir && /Users/biocbuild/BBS/utils/build-universal.sh crisprViz_1.12.0.tar.gz /Library/Frameworks/R.framework/Resources/bin/R crisprViz.buildbin-libdir StartedAt: 2025-11-04 01:35:02 -0500 (Tue, 04 Nov 2025) EndedAt: 2025-11-04 01:36:16 -0500 (Tue, 04 Nov 2025) EllapsedTime: 74.6 seconds RetCode: 0 Status: OK PackageFile: crisprViz_1.12.0.tgz PackageFileSize: 1.355 MiB