Package: crisprShiny Version: 1.4.0 Command: chmod a+r crisprShiny -R && E:\biocbuild\bbs-3.21-bioc\R\bin\R.exe CMD build --keep-empty-dirs --no-resave-data crisprShiny StartedAt: 2025-08-14 18:18:19 -0400 (Thu, 14 Aug 2025) EndedAt: 2025-08-14 18:19:37 -0400 (Thu, 14 Aug 2025) EllapsedTime: 77.5 seconds RetCode: 0 Status: OK PackageFile: crisprShiny_1.4.0.tar.gz PackageFileSize: 1.581 MiB