Package: crisprShiny Version: 1.4.0 Command: rm -rf crisprShiny.buildbin-libdir && mkdir crisprShiny.buildbin-libdir && E:\biocbuild\bbs-3.21-bioc\R\bin\R.exe CMD INSTALL --build --library=crisprShiny.buildbin-libdir crisprShiny_1.4.0.tar.gz StartedAt: 2025-08-15 09:04:22 -0400 (Fri, 15 Aug 2025) EndedAt: 2025-08-15 09:05:41 -0400 (Fri, 15 Aug 2025) EllapsedTime: 78.5 seconds RetCode: 0 Status: OK PackageFile: crisprShiny_1.4.0.zip PackageFileSize: 1.296 MiB