Package: crisprShiny Version: 1.4.0 Command: /Library/Frameworks/R.framework/Resources/bin/R CMD INSTALL crisprShiny StartedAt: 2025-10-13 16:33:34 -0400 (Mon, 13 Oct 2025) EndedAt: 2025-10-13 16:35:23 -0400 (Mon, 13 Oct 2025) EllapsedTime: 109.8 seconds RetCode: 0 Status: OK