Package: crisprShiny Version: 1.4.0 Command: /Library/Frameworks/R.framework/Resources/bin/R CMD check --install=check:crisprShiny.install-out.txt --library=/Library/Frameworks/R.framework/Resources/library --no-vignettes --timings crisprShiny_1.4.0.tar.gz StartedAt: 2025-10-14 02:06:57 -0400 (Tue, 14 Oct 2025) EndedAt: 2025-10-14 02:21:21 -0400 (Tue, 14 Oct 2025) EllapsedTime: 864.1 seconds RetCode: 0 Status: OK CheckDir: crisprShiny.Rcheck Warnings: 0