Package: crisprShiny Version: 1.4.0 Command: /Library/Frameworks/R.framework/Resources/bin/R CMD build --keep-empty-dirs --no-resave-data crisprShiny StartedAt: 2025-10-13 18:12:56 -0400 (Mon, 13 Oct 2025) EndedAt: 2025-10-13 18:15:06 -0400 (Mon, 13 Oct 2025) EllapsedTime: 130.7 seconds RetCode: 0 Status: OK PackageFile: crisprShiny_1.4.0.tar.gz PackageFileSize: 1.581 MiB