Package: crisprShiny Version: 1.4.0 Command: rm -rf crisprShiny.buildbin-libdir && mkdir crisprShiny.buildbin-libdir && /Users/biocbuild/BBS/utils/build-universal.sh crisprShiny_1.4.0.tar.gz /Library/Frameworks/R.framework/Resources/bin/R crisprShiny.buildbin-libdir StartedAt: 2025-10-14 13:09:12 -0400 (Tue, 14 Oct 2025) EndedAt: 2025-10-14 13:11:24 -0400 (Tue, 14 Oct 2025) EllapsedTime: 132.2 seconds RetCode: 0 Status: OK PackageFile: crisprShiny_1.4.0.tgz PackageFileSize: 1.289 MiB