Package: crisprShiny Version: 1.4.0 Command: /Library/Frameworks/R.framework/Resources/bin/R CMD check --install=check:crisprShiny.install-out.txt --library=/Library/Frameworks/R.framework/Resources/library --no-vignettes --timings crisprShiny_1.4.0.tar.gz StartedAt: 2025-04-21 18:50:29 -0400 (Mon, 21 Apr 2025) EndedAt: 2025-04-21 18:53:16 -0400 (Mon, 21 Apr 2025) EllapsedTime: 166.8 seconds RetCode: 0 Status: OK CheckDir: crisprShiny.Rcheck Warnings: 0