Package: crisprDesign Version: 1.12.0 Command: /home/biocbuild/bbs-3.22-bioc/R/bin/R CMD INSTALL crisprDesign StartedAt: 2025-11-06 15:45:32 -0500 (Thu, 06 Nov 2025) EndedAt: 2025-11-06 15:46:29 -0500 (Thu, 06 Nov 2025) EllapsedTime: 57.0 seconds RetCode: 0 Status: OK