Package: crisprDesign Version: 1.12.0 Command: /home/biocbuild/bbs-3.22-bioc/R/bin/R CMD check --install=check:crisprDesign.install-out.txt --library=/home/biocbuild/bbs-3.22-bioc/R/site-library --timings crisprDesign_1.12.0.tar.gz StartedAt: 2025-11-06 22:26:49 -0500 (Thu, 06 Nov 2025) EndedAt: 2025-11-06 22:36:51 -0500 (Thu, 06 Nov 2025) EllapsedTime: 601.4 seconds RetCode: 0 Status: OK CheckDir: crisprDesign.Rcheck Warnings: 0