Package: crisprBwa Version: 1.14.0 Command: /Library/Frameworks/R.framework/Resources/bin/R CMD INSTALL crisprBwa StartedAt: 2025-10-31 15:48:53 -0400 (Fri, 31 Oct 2025) EndedAt: 2025-10-31 15:49:37 -0400 (Fri, 31 Oct 2025) EllapsedTime: 44.7 seconds RetCode: 0 Status: OK