Package: crisprBwa Version: 1.14.0 Command: /Library/Frameworks/R.framework/Resources/bin/R CMD check --install=check:crisprBwa.install-out.txt --library=/Library/Frameworks/R.framework/Resources/library --no-vignettes --timings crisprBwa_1.14.0.tar.gz StartedAt: 2025-11-03 20:27:56 -0500 (Mon, 03 Nov 2025) EndedAt: 2025-11-03 20:32:25 -0500 (Mon, 03 Nov 2025) EllapsedTime: 268.8 seconds RetCode: 0 Status: OK CheckDir: crisprBwa.Rcheck Warnings: 0