Package: crisprBwa Version: 1.14.0 Command: rm -rf crisprBwa.buildbin-libdir && mkdir crisprBwa.buildbin-libdir && /Users/biocbuild/BBS/utils/build-universal.sh crisprBwa_1.14.0.tar.gz /Library/Frameworks/R.framework/Resources/bin/R crisprBwa.buildbin-libdir StartedAt: 2025-11-01 01:29:05 -0400 (Sat, 01 Nov 2025) EndedAt: 2025-11-01 01:29:52 -0400 (Sat, 01 Nov 2025) EllapsedTime: 47.1 seconds RetCode: 0 Status: OK PackageFile: crisprBwa_1.14.0.tgz PackageFileSize: 369.5 KiB