Package: crisprBowtie Version: 1.12.0 Command: rm -rf crisprBowtie.buildbin-libdir && mkdir crisprBowtie.buildbin-libdir && /Users/biocbuild/BBS/utils/build-universal.sh crisprBowtie_1.12.0.tar.gz /Library/Frameworks/R.framework/Resources/bin/R crisprBowtie.buildbin-libdir StartedAt: 2025-09-20 16:58:53 -0400 (Sat, 20 Sep 2025) EndedAt: 2025-09-20 16:59:35 -0400 (Sat, 20 Sep 2025) EllapsedTime: 42.1 seconds RetCode: 0 Status: OK PackageFile: crisprBowtie_1.12.0.tgz PackageFileSize: 335.3 KiB