Package: crisprBase Version: 1.14.0 Command: /home/biocbuild/bbs-3.22-bioc/R/bin/R CMD check --install=check:crisprBase.install-out.txt --library=/home/biocbuild/bbs-3.22-bioc/R/site-library --timings crisprBase_1.14.0.tar.gz StartedAt: 2025-11-09 22:38:44 -0500 (Sun, 09 Nov 2025) EndedAt: 2025-11-09 22:40:21 -0500 (Sun, 09 Nov 2025) EllapsedTime: 97.1 seconds RetCode: 0 Status: WARNINGS CheckDir: crisprBase.Rcheck Warnings: 1