Package: crisprBase Version: 1.14.0 Command: /home/biocbuild/bbs-3.22-bioc/R/bin/R CMD build --keep-empty-dirs --no-resave-data --md5 crisprBase StartedAt: 2025-11-09 17:08:22 -0500 (Sun, 09 Nov 2025) EndedAt: 2025-11-09 17:08:48 -0500 (Sun, 09 Nov 2025) EllapsedTime: 26.0 seconds RetCode: 0 Status: OK PackageFile: crisprBase_1.14.0.tar.gz PackageFileSize: 1.754 MiB