Package: cqn Version: 1.56.0 Command: /home/biocbuild/bbs-3.22-bioc/R/bin/R CMD check --install=check:cqn.install-out.txt --library=/home/biocbuild/bbs-3.22-bioc/R/site-library --timings cqn_1.56.0.tar.gz StartedAt: 2025-11-16 22:37:05 -0500 (Sun, 16 Nov 2025) EndedAt: 2025-11-16 22:38:01 -0500 (Sun, 16 Nov 2025) EllapsedTime: 56.0 seconds RetCode: 0 Status: OK CheckDir: cqn.Rcheck Warnings: 0