Package: cqn Version: 1.56.0 Command: /Library/Frameworks/R.framework/Resources/bin/R CMD INSTALL cqn StartedAt: 2025-11-03 15:12:02 -0500 (Mon, 03 Nov 2025) EndedAt: 2025-11-03 15:12:40 -0500 (Mon, 03 Nov 2025) EllapsedTime: 37.8 seconds RetCode: 0 Status: OK