Package: cqn Version: 1.56.0 Command: /Library/Frameworks/R.framework/Resources/bin/R CMD check --install=check:cqn.install-out.txt --library=/Library/Frameworks/R.framework/Resources/library --no-vignettes --timings cqn_1.56.0.tar.gz StartedAt: 2025-11-03 20:26:58 -0500 (Mon, 03 Nov 2025) EndedAt: 2025-11-03 20:27:56 -0500 (Mon, 03 Nov 2025) EllapsedTime: 58.5 seconds RetCode: 0 Status: OK CheckDir: cqn.Rcheck Warnings: 0