Package: cqn Version: 1.56.0 Command: rm -rf cqn.buildbin-libdir && mkdir cqn.buildbin-libdir && /Users/biocbuild/BBS/utils/build-universal.sh cqn_1.56.0.tar.gz /Library/Frameworks/R.framework/Resources/bin/R cqn.buildbin-libdir StartedAt: 2025-11-04 01:34:44 -0500 (Tue, 04 Nov 2025) EndedAt: 2025-11-04 01:34:55 -0500 (Tue, 04 Nov 2025) EllapsedTime: 10.4 seconds RetCode: 0 Status: OK PackageFile: cqn_1.56.0.tgz PackageFileSize: 1.055 MiB