Package: cpvSNP Version: 1.40.0 Command: /Library/Frameworks/R.framework/Resources/bin/R CMD build --keep-empty-dirs --no-resave-data cpvSNP StartedAt: 2025-10-13 22:05:00 -0400 (Mon, 13 Oct 2025) EndedAt: 2025-10-13 22:06:18 -0400 (Mon, 13 Oct 2025) EllapsedTime: 78.0 seconds RetCode: 0 Status: OK PackageFile: cpvSNP_1.40.0.tar.gz PackageFileSize: 2.006 MiB