Package: corral Version: 1.18.0 Command: /home/biocbuild/R/R/bin/R CMD INSTALL corral StartedAt: 2025-10-13 20:48:33 -0000 (Mon, 13 Oct 2025) EndedAt: 2025-10-13 20:49:12 -0000 (Mon, 13 Oct 2025) EllapsedTime: 39.2 seconds RetCode: 0 Status: OK