Package: corral Version: 1.18.0 Command: /Library/Frameworks/R.framework/Resources/bin/R CMD INSTALL corral StartedAt: 2025-04-21 15:18:27 -0400 (Mon, 21 Apr 2025) EndedAt: 2025-04-21 15:18:38 -0400 (Mon, 21 Apr 2025) EllapsedTime: 11.3 seconds RetCode: 0 Status: OK