Package: corral Version: 1.18.0 Command: rm -rf corral.buildbin-libdir && mkdir corral.buildbin-libdir && /Users/biocbuild/BBS/utils/build-universal.sh corral_1.18.0.tar.gz /Library/Frameworks/R.framework/Resources/bin/R corral.buildbin-libdir StartedAt: 2025-10-15 18:00:19 -0400 (Wed, 15 Oct 2025) EndedAt: 2025-10-15 18:00:56 -0400 (Wed, 15 Oct 2025) EllapsedTime: 37.3 seconds RetCode: 0 Status: OK PackageFile: corral_1.18.0.tgz PackageFileSize: 1.807 MiB