Package: convert Version: 1.84.0 Command: rm -rf convert.buildbin-libdir && mkdir convert.buildbin-libdir && /Users/biocbuild/BBS/utils/build-universal.sh convert_1.84.0.tar.gz /Library/Frameworks/R.framework/Resources/bin/R convert.buildbin-libdir StartedAt: 2025-04-22 00:39:49 -0400 (Tue, 22 Apr 2025) EndedAt: 2025-04-22 00:39:57 -0400 (Tue, 22 Apr 2025) EllapsedTime: 8.1 seconds RetCode: 0 Status: OK PackageFile: convert_1.84.0.tgz PackageFileSize: 181.8 KiB