Package: convert Version: 1.84.0 Command: /Library/Frameworks/R.framework/Resources/bin/R CMD build --keep-empty-dirs --no-resave-data convert StartedAt: 2025-04-21 15:59:47 -0400 (Mon, 21 Apr 2025) EndedAt: 2025-04-21 15:59:51 -0400 (Mon, 21 Apr 2025) EllapsedTime: 4.0 seconds RetCode: 0 Status: OK PackageFile: convert_1.84.0.tar.gz PackageFileSize: 136.8 KiB