Package: convert Version: 1.84.0 Command: /Library/Frameworks/R.framework/Resources/bin/R CMD INSTALL convert StartedAt: 2025-09-29 15:38:14 -0400 (Mon, 29 Sep 2025) EndedAt: 2025-09-29 15:38:20 -0400 (Mon, 29 Sep 2025) EllapsedTime: 5.9 seconds RetCode: 0 Status: OK