Package: convert Version: 1.84.0 Command: /Library/Frameworks/R.framework/Resources/bin/R CMD check --install=check:convert.install-out.txt --library=/Library/Frameworks/R.framework/Resources/library --no-vignettes --timings convert_1.84.0.tar.gz StartedAt: 2025-09-30 17:09:28 -0400 (Tue, 30 Sep 2025) EndedAt: 2025-09-30 17:10:06 -0400 (Tue, 30 Sep 2025) EllapsedTime: 38.0 seconds RetCode: 0 Status: OK CheckDir: convert.Rcheck Warnings: 0