Package: convert Version: 1.84.0 Command: rm -rf convert.buildbin-libdir && mkdir convert.buildbin-libdir && /Users/biocbuild/BBS/utils/build-universal.sh convert_1.84.0.tar.gz /Library/Frameworks/R.framework/Resources/bin/R convert.buildbin-libdir StartedAt: 2025-10-01 17:58:40 -0400 (Wed, 01 Oct 2025) EndedAt: 2025-10-01 17:58:46 -0400 (Wed, 01 Oct 2025) EllapsedTime: 6.6 seconds RetCode: 0 Status: OK PackageFile: convert_1.84.0.tgz PackageFileSize: 181.8 KiB