Package: conumee Version: 1.42.0 Command: /Library/Frameworks/R.framework/Resources/bin/R CMD INSTALL conumee StartedAt: 2025-10-13 16:19:20 -0400 (Mon, 13 Oct 2025) EndedAt: 2025-10-13 16:24:38 -0400 (Mon, 13 Oct 2025) EllapsedTime: 318.7 seconds RetCode: 0 Status: OK